Workbook
Name _Toc456317827: 'c'!#REF!
Name _Toc456317828: 'c'!#REF!

Sheet c
A1: Jumlah Korban Manusia Akibat Bencana Alam Yang Terjadi
A2: Menurut Kecamatan
A3: Per 31 Desember 2023
A5: No | B5: Kode Wilayah | C5: Kecamatan | D5: Gempa Bumi | G5: Gunung Meletus | J5: Tanah Longsor | M5: Banjir | P5: Kekeringan | S5: Kebakaran | V5: Angin Puting Beliung | Y5: Tanah Longsor | AB5: Petir | AE5: Korban Tenggelam
D6: Meninggal & Hilang | E6: Luka-Luka | F6: Terdampak & Mengungsi | G6: Meninggal & Hilang | H6: Luka-Luka | I6: Terdampak & Mengungsi | J6: Meninggal & Hilang | K6: Luka-Luka | L6: Terdampak & Mengungsi | M6: Meninggal & Hilang | N6: Luka-Luka | O6: Terdampak & Mengungsi | P6: Meninggal & Hilang | Q6: Luka-Luka | R6: Terdampak & Mengungsi | S6: Meninggal & Hilang | T6: Luka-Luka | U6: Terdampak & Mengungsi | V6: Meninggal & Hilang | W6: Luka-Luka | X6: Terdampak & Mengungsi | Y6: Meninggal & Hilang | Z6: Luka-Luka | AA6: Terdampak & Mengungsi | AB6: Meninggal & Hilang | AC6: Luka-Luka | AD6: Terdampak & Mengungsi | AE6: Meninggal & Hilang | AF6: Luka-Luka | AG6: Terdampak & Mengungsi
A7: (1) | B7: (2) | C7: (3) | D7: (4) | E7: (5) | F7: (6) | G7: -7 | H7: -8 | I7: -9 | J7: -10 | K7: -11 | L7: -12 | M7: -13 | N7: -14 | O7: -15 | P7: -16 | Q7: -17 | R7: -18 | S7: -19 | T7: -20 | U7: -21 | V7: -22 | W7: -23 | X7: -24 | Y7: -25 | Z7: -26 | AA7: -27 | AB7: -28 | AC7: -29 | AD7: -30 | AE7: -31 | AF7: -32 | AG7: -33
A8: 1 | B8: 52.07.01 | C8: Jereweh | D8: {=COUNTIFS([1]e!$I:$I,'c'!D$6,[1]e!$E:$E,'c'!D$5:D$5,[1]e!$F:$F,$C8)} -> 0 | E8: {=COUNTIFS([1]e!$I:$I,'c'!E$6,[1]e!$E:$E,'c'!D$5:D$5,[1]e!$F:$F,$C8)} -> 0 | F8: {=COUNTIFS([1]e!$I:$I,'c'!F$6,[1]e!$E:$E,'c'!D$5:D$5,[1]e!$F:$F,$C8)} -> 0 | G8: {=COUNTIFS([1]e!$I:$I,'c'!G$6,[1]e!$E:$E,'c'!G$5:G$5,[1]e!$F:$F,$C8)} -> 0 | H8: {=COUNTIFS([1]e!$I:$I,'c'!H$6,[1]e!$E:$E,'c'!G$5:G$5,[1]e!$F:$F,$C8)} -> 0 | I8: {=COUNTIFS([1]e!$I:$I,'c'!I$6,[1]e!$E:$E,'c'!G$5:G$5,[1]e!$F:$F,$C8)} -> 0 | J8: {=COUNTIFS([1]e!$I:$I,'c'!J$6,[1]e!$E:$E,'c'!J$5:J$5,[1]e!$F:$F,$C8)} -> 0 | K8: {=COUNTIFS([1]e!$I:$I,'c'!K$6,[1]e!$E:$E,'c'!J$5:J$5,[1]e!$F:$F,$C8)} -> 0 | L8: {=COUNTIFS([1]e!$I:$I,'c'!L$6,[1]e!$E:$E,'c'!J$5:J$5,[1]e!$F:$F,$C8)} -> 0 | M8: {=COUNTIFS([1]e!$I:$I,'c'!M$6,[1]e!$E:$E,'c'!M$5:M$5,[1]e!$F:$F,$C8)} -> 0 | N8: {=COUNTIFS([1]e!$I:$I,'c'!N$6,[1]e!$E:$E,'c'!M$5:M$5,[1]e!$F:$F,$C8)} -> 0 | O8: {=COUNTIFS([1]e!$I:$I,'c'!O$6,[1]e!$E:$E,'c'!M$5:M$5,[1]e!$F:$F,$C8)} -> 0 | P8: {=COUNTIFS([1]e!$I:$I,'c'!P$6,[1]e!$E:$E,'c'!P$5:P$5,[1]e!$F:$F,$C8)} -> 0 | Q8: {=COUNTIFS([1]e!$I:$I,'c'!Q$6,[1]e!$E:$E,'c'!P$5:P$5,[1]e!$F:$F,$C8)} -> 0 | R8: {=COUNTIFS([1]e!$I:$I,'c'!R$6,[1]e!$E:$E,'c'!P$5:P$5,[1]e!$F:$F,$C8)} -> 0 | S8: {=COUNTIFS([1]e!$I:$I,'c'!S$6,[1]e!$E:$E,'c'!S$5:S$5,[1]e!$F:$F,$C8)} -> 0 | T8: {=COUNTIFS([1]e!$I:$I,'c'!T$6,[1]e!$E:$E,'c'!S$5:S$5,[1]e!$F:$F,$C8)} -> 0 | U8: {=COUNTIFS([1]e!$I:$I,'c'!U$6,[1]e!$E:$E,'c'!S$5:S$5,[1]e!$F:$F,$C8)} -> 0 | V8: {=COUNTIFS([1]e!$I:$I,'c'!V$6,[1]e!$E:$E,'c'!V$5:V$5,[1]e!$F:$F,$C8)} -> 0 | W8: {=COUNTIFS([1]e!$I:$I,'c'!W$6,[1]e!$E:$E,'c'!V$5:V$5,[1]e!$F:$F,$C8)} -> 0 | X8: {=COUNTIFS([1]e!$I:$I,'c'!X$6,[1]e!$E:$E,'c'!V$5:V$5,[1]e!$F:$F,$C8)} -> 0 | Y8: {=COUNTIFS([1]e!$I:$I,'c'!Y$6,[1]e!$E:$E,'c'!Y$5:Y$5,[1]e!$F:$F,$C8)} -> 0 | Z8: {=COUNTIFS([1]e!$I:$I,'c'!Z$6,[1]e!$E:$E,'c'!Y$5:Y$5,[1]e!$F:$F,$C8)} -> 0 | AA8: {=COUNTIFS([1]e!$I:$I,'c'!AA$6,[1]e!$E:$E,'c'!Y$5:Y$5,[1]e!$F:$F,$C8)} -> 0 | AB8: {=COUNTIFS([1]e!$I:$I,'c'!AB$6,[1]e!$E:$E,'c'!AB$5:AB$5,[1]e!$F:$F,$C8)} -> 0 | AC8: {=COUNTIFS([1]e!$I:$I,'c'!AC$6,[1]e!$E:$E,'c'!AB$5:AB$5,[1]e!$F:$F,$C8)} -> 0 | AD8: {=COUNTIFS([1]e!$I:$I,'c'!AD$6,[1]e!$E:$E,'c'!AB$5:AB$5,[1]e!$F:$F,$C8)} -> 0 | AE8: {=COUNTIFS([1]e!$I:$I,'c'!AE$6,[1]e!$E:$E,'c'!AE$5:AE$5,[1]e!$F:$F,$C8)} -> 0 | AF8: {=COUNTIFS([1]e!$I:$I,'c'!AF$6,[1]e!$E:$E,'c'!AE$5:AE$5,[1]e!$F:$F,$C8)} -> 0 | AG8: {=COUNTIFS([1]e!$I:$I,'c'!AG$6,[1]e!$E:$E,'c'!AE$5:AE$5,[1]e!$F:$F,$C8)} -> 0
A9: 2 | B9: 52.07.02 | C9: Taliwang | D9: {=COUNTIFS([1]e!$I:$I,'c'!D$6,[1]e!$E:$E,'c'!D$5:D$5,[1]e!$F:$F,$C9)} -> 0 | E9: {=COUNTIFS([1]e!$I:$I,'c'!E$6,[1]e!$E:$E,'c'!E$5:E$5,[1]e!$F:$F,$C9)} -> 0 | F9: {=COUNTIFS([1]e!$I:$I,'c'!F$6,[1]e!$E:$E,'c'!F$5:F$5,[1]e!$F:$F,$C9)} -> 0 | G9: {=COUNTIFS([1]e!$I:$I,'c'!G$6,[1]e!$E:$E,'c'!G$5:G$5,[1]e!$F:$F,$C9)} -> 0 | H9: {=COUNTIFS([1]e!$I:$I,'c'!H$6,[1]e!$E:$E,'c'!G$5:G$5,[1]e!$F:$F,$C9)} -> 0 | I9: {=COUNTIFS([1]e!$I:$I,'c'!I$6,[1]e!$E:$E,'c'!G$5:G$5,[1]e!$F:$F,$C9)} -> 0 | J9: {=COUNTIFS([1]e!$I:$I,'c'!J$6,[1]e!$E:$E,'c'!J$5:J$5,[1]e!$F:$F,$C9)} -> 0 | K9: {=COUNTIFS([1]e!$I:$I,'c'!K$6,[1]e!$E:$E,'c'!J$5:J$5,[1]e!$F:$F,$C9)} -> 0 | L9: {=COUNTIFS([1]e!$I:$I,'c'!L$6,[1]e!$E:$E,'c'!J$5:J$5,[1]e!$F:$F,$C9)} -> 0 | M9: {=COUNTIFS([1]e!$I:$I,'c'!M$6,[1]e!$E:$E,'c'!M$5:M$5,[1]e!$F:$F,$C9)} -> 0 | N9: {=COUNTIFS([1]e!$I:$I,'c'!N$6,[1]e!$E:$E,'c'!M$5:M$5,[1]e!$F:$F,$C9)} -> 0 | O9: {=COUNTIFS([1]e!$I:$I,'c'!O$6,[1]e!$E:$E,'c'!M$5:M$5,[1]e!$F:$F,$C9)} -> 2 | P9: {=COUNTIFS([1]e!$I:$I,'c'!P$6,[1]e!$E:$E,'c'!P$5:P$5,[1]e!$F:$F,$C9)} -> 0 | Q9: {=COUNTIFS([1]e!$I:$I,'c'!Q$6,[1]e!$E:$E,'c'!P$5:P$5,[1]e!$F:$F,$C9)} -> 0 | R9: {=COUNTIFS([1]e!$I:$I,'c'!R$6,[1]e!$E:$E,'c'!P$5:P$5,[1]e!$F:$F,$C9)} -> 1 | S9: {=COUNTIFS([1]e!$I:$I,'c'!S$6,[1]e!$E:$E,'c'!S$5:S$5,[1]e!$F:$F,$C9)} -> 0 | T9: {=COUNTIFS([1]e!$I:$I,'c'!T$6,[1]e!$E:$E,'c'!S$5:S$5,[1]e!$F:$F,$C9)} -> 0 | U9: {=COUNTIFS([1]e!$I:$I,'c'!U$6,[1]e!$E:$E,'c'!S$5:S$5,[1]e!$F:$F,$C9)} -> 0 | V9: {=COUNTIFS([1]e!$I:$I,'c'!V$6,[1]e!$E:$E,'c'!V$5:V$5,[1]e!$F:$F,$C9)} -> 0 | W9: {=COUNTIFS([1]e!$I:$I,'c'!W$6,[1]e!$E:$E,'c'!V$5:V$5,[1]e!$F:$F,$C9)} -> 0 | X9: {=COUNTIFS([1]e!$I:$I,'c'!X$6,[1]e!$E:$E,'c'!V$5:V$5,[1]e!$F:$F,$C9)} -> 0 | Y9: {=COUNTIFS([1]e!$I:$I,'c'!Y$6,[1]e!$E:$E,'c'!Y$5:Y$5,[1]e!$F:$F,$C9)} -> 0 | Z9: {=COUNTIFS([1]e!$I:$I,'c'!Z$6,[1]e!$E:$E,'c'!Y$5:Y$5,[1]e!$F:$F,$C9)} -> 0 | AA9: {=COUNTIFS([1]e!$I:$I,'c'!AA$6,[1]e!$E:$E,'c'!Y$5:Y$5,[1]e!$F:$F,$C9)} -> 0 | AB9: {=COUNTIFS([1]e!$I:$I,'c'!AB$6,[1]e!$E:$E,'c'!AB$5:AB$5,[1]e!$F:$F,$C9)} -> 0 | AC9: {=COUNTIFS([1]e!$I:$I,'c'!AC$6,[1]e!$E:$E,'c'!AB$5:AB$5,[1]e!$F:$F,$C9)} -> 0 | AD9: {=COUNTIFS([1]e!$I:$I,'c'!AD$6,[1]e!$E:$E,'c'!AB$5:AB$5,[1]e!$F:$F,$C9)} -> 0 | AE9: {=COUNTIFS([1]e!$I:$I,'c'!AE$6,[1]e!$E:$E,'c'!AE$5:AE$5,[1]e!$F:$F,$C9)} -> 2 | AF9: {=COUNTIFS([1]e!$I:$I,'c'!AF$6,[1]e!$E:$E,'c'!AE$5:AE$5,[1]e!$F:$F,$C9)} -> 0 | AG9: {=COUNTIFS([1]e!$I:$I,'c'!AG$6,[1]e!$E:$E,'c'!AE$5:AE$5,[1]e!$F:$F,$C9)} -> 0
A10: 3 | B10: 52.07.03 | C10: Seteluk | D10: {=COUNTIFS([1]e!$I:$I,'c'!D$6,[1]e!$E:$E,'c'!D$5:D$5,[1]e!$F:$F,$C10)} -> 0 | E10: {=COUNTIFS([1]e!$I:$I,'c'!E$6,[1]e!$E:$E,'c'!E$5:E$5,[1]e!$F:$F,$C10)} -> 0 | F10: {=COUNTIFS([1]e!$I:$I,'c'!F$6,[1]e!$E:$E,'c'!F$5:F$5,[1]e!$F:$F,$C10)} -> 0 | G10: {=COUNTIFS([1]e!$I:$I,'c'!G$6,[1]e!$E:$E,'c'!G$5:G$5,[1]e!$F:$F,$C10)} -> 0 | H10: {=COUNTIFS([1]e!$I:$I,'c'!H$6,[1]e!$E:$E,'c'!G$5:G$5,[1]e!$F:$F,$C10)} -> 0 | I10: {=COUNTIFS([1]e!$I:$I,'c'!I$6,[1]e!$E:$E,'c'!G$5:G$5,[1]e!$F:$F,$C10)} -> 0 | J10: {=COUNTIFS([1]e!$I:$I,'c'!J$6,[1]e!$E:$E,'c'!J$5:J$5,[1]e!$F:$F,$C10)} -> 0 | K10: {=COUNTIFS([1]e!$I:$I,'c'!K$6,[1]e!$E:$E,'c'!J$5:J$5,[1]e!$F:$F,$C10)} -> 0 | L10: {=COUNTIFS([1]e!$I:$I,'c'!L$6,[1]e!$E:$E,'c'!J$5:J$5,[1]e!$F:$F,$C10)} -> 0 | M10: {=COUNTIFS([1]e!$I:$I,'c'!M$6,[1]e!$E:$E,'c'!M$5:M$5,[1]e!$F:$F,$C10)} -> 0 | N10: {=COUNTIFS([1]e!$I:$I,'c'!N$6,[1]e!$E:$E,'c'!M$5:M$5,[1]e!$F:$F,$C10)} -> 0 | O10: {=COUNTIFS([1]e!$I:$I,'c'!O$6,[1]e!$E:$E,'c'!M$5:M$5,[1]e!$F:$F,$C10)} -> 2 | P10: {=COUNTIFS([1]e!$I:$I,'c'!P$6,[1]e!$E:$E,'c'!P$5:P$5,[1]e!$F:$F,$C10)} -> 0 | Q10: {=COUNTIFS([1]e!$I:$I,'c'!Q$6,[1]e!$E:$E,'c'!P$5:P$5,[1]e!$F:$F,$C10)} -> 0 | R10: {=COUNTIFS([1]e!$I:$I,'c'!R$6,[1]e!$E:$E,'c'!P$5:P$5,[1]e!$F:$F,$C10)} -> 4 | S10: {=COUNTIFS([1]e!$I:$I,'c'!S$6,[1]e!$E:$E,'c'!S$5:S$5,[1]e!$F:$F,$C10)} -> 0 | T10: {=COUNTIFS([1]e!$I:$I,'c'!T$6,[1]e!$E:$E,'c'!S$5:S$5,[1]e!$F:$F,$C10)} -> 0 | U10: {=COUNTIFS([1]e!$I:$I,'c'!U$6,[1]e!$E:$E,'c'!S$5:S$5,[1]e!$F:$F,$C10)} -> 0 | V10: {=COUNTIFS([1]e!$I:$I,'c'!V$6,[1]e!$E:$E,'c'!V$5:V$5,[1]e!$F:$F,$C10)} -> 0 | W10: {=COUNTIFS([1]e!$I:$I,'c'!W$6,[1]e!$E:$E,'c'!V$5:V$5,[1]e!$F:$F,$C10)} -> 0 | X10: {=COUNTIFS([1]e!$I:$I,'c'!X$6,[1]e!$E:$E,'c'!V$5:V$5,[1]e!$F:$F,$C10)} -> 0 | Y10: {=COUNTIFS([1]e!$I:$I,'c'!Y$6,[1]e!$E:$E,'c'!Y$5:Y$5,[1]e!$F:$F,$C10)} -> 0 | Z10: {=COUNTIFS([1]e!$I:$I,'c'!Z$6,[1]e!$E:$E,'c'!Y$5:Y$5,[1]e!$F:$F,$C10)} -> 0 | AA10: {=COUNTIFS([1]e!$I:$I,'c'!AA$6,[1]e!$E:$E,'c'!Y$5:Y$5,[1]e!$F:$F,$C10)} -> 0 | AB10: {=COUNTIFS([1]e!$I:$I,'c'!AB$6,[1]e!$E:$E,'c'!AB$5:AB$5,[1]e!$F:$F,$C10)} -> 0 | AC10: {=COUNTIFS([1]e!$I:$I,'c'!AC$6,[1]e!$E:$E,'c'!AB$5:AB$5,[1]e!$F:$F,$C10)} -> 0 | AD10: {=COUNTIFS([1]e!$I:$I,'c'!AD$6,[1]e!$E:$E,'c'!AB$5:AB$5,[1]e!$F:$F,$C10)} -> 0 | AE10: {=COUNTIFS([1]e!$I:$I,'c'!AE$6,[1]e!$E:$E,'c'!AE$5:AE$5,[1]e!$F:$F,$C10)} -> 0 | AF10: {=COUNTIFS([1]e!$I:$I,'c'!AF$6,[1]e!$E:$E,'c'!AE$5:AE$5,[1]e!$F:$F,$C10)} -> 0 | AG10: {=COUNTIFS([1]e!$I:$I,'c'!AG$6,[1]e!$E:$E,'c'!AE$5:AE$5,[1]e!$F:$F,$C10)} -> 0
A11: 4 | B11: 52.07.04 | C11: Sekongkang | D11: {=COUNTIFS([1]e!$I:$I,'c'!D$6,[1]e!$E:$E,'c'!D$5:D$5,[1]e!$F:$F,$C11)} -> 0 | E11: {=COUNTIFS([1]e!$I:$I,'c'!E$6,[1]e!$E:$E,'c'!E$5:E$5,[1]e!$F:$F,$C11)} -> 0 | F11: {=COUNTIFS([1]e!$I:$I,'c'!F$6,[1]e!$E:$E,'c'!F$5:F$5,[1]e!$F:$F,$C11)} -> 0 | G11: {=COUNTIFS([1]e!$I:$I,'c'!G$6,[1]e!$E:$E,'c'!G$5:G$5,[1]e!$F:$F,$C11)} -> 0 | H11: {=COUNTIFS([1]e!$I:$I,'c'!H$6,[1]e!$E:$E,'c'!G$5:G$5,[1]e!$F:$F,$C11)} -> 0 | I11: {=COUNTIFS([1]e!$I:$I,'c'!I$6,[1]e!$E:$E,'c'!G$5:G$5,[1]e!$F:$F,$C11)} -> 0 | J11: {=COUNTIFS([1]e!$I:$I,'c'!J$6,[1]e!$E:$E,'c'!J$5:J$5,[1]e!$F:$F,$C11)} -> 0 | K11: {=COUNTIFS([1]e!$I:$I,'c'!K$6,[1]e!$E:$E,'c'!J$5:J$5,[1]e!$F:$F,$C11)} -> 0 | L11: {=COUNTIFS([1]e!$I:$I,'c'!L$6,[1]e!$E:$E,'c'!J$5:J$5,[1]e!$F:$F,$C11)} -> 0 | M11: {=COUNTIFS([1]e!$I:$I,'c'!M$6,[1]e!$E:$E,'c'!M$5:M$5,[1]e!$F:$F,$C11)} -> 0 | N11: {=COUNTIFS([1]e!$I:$I,'c'!N$6,[1]e!$E:$E,'c'!M$5:M$5,[1]e!$F:$F,$C11)} -> 0 | O11: {=COUNTIFS([1]e!$I:$I,'c'!O$6,[1]e!$E:$E,'c'!M$5:M$5,[1]e!$F:$F,$C11)} -> 1 | P11: {=COUNTIFS([1]e!$I:$I,'c'!P$6,[1]e!$E:$E,'c'!P$5:P$5,[1]e!$F:$F,$C11)} -> 0 | Q11: {=COUNTIFS([1]e!$I:$I,'c'!Q$6,[1]e!$E:$E,'c'!P$5:P$5,[1]e!$F:$F,$C11)} -> 0 | R11: {=COUNTIFS([1]e!$I:$I,'c'!R$6,[1]e!$E:$E,'c'!P$5:P$5,[1]e!$F:$F,$C11)} -> 0 | S11: {=COUNTIFS([1]e!$I:$I,'c'!S$6,[1]e!$E:$E,'c'!S$5:S$5,[1]e!$F:$F,$C11)} -> 0 | T11: {=COUNTIFS([1]e!$I:$I,'c'!T$6,[1]e!$E:$E,'c'!S$5:S$5,[1]e!$F:$F,$C11)} -> 0 | U11: {=COUNTIFS([1]e!$I:$I,'c'!U$6,[1]e!$E:$E,'c'!S$5:S$5,[1]e!$F:$F,$C11)} -> 0 | V11: {=COUNTIFS([1]e!$I:$I,'c'!V$6,[1]e!$E:$E,'c'!V$5:V$5,[1]e!$F:$F,$C11)} -> 0 | W11: {=COUNTIFS([1]e!$I:$I,'c'!W$6,[1]e!$E:$E,'c'!V$5:V$5,[1]e!$F:$F,$C11)} -> 0 | X11: {=COUNTIFS([1]e!$I:$I,'c'!X$6,[1]e!$E:$E,'c'!V$5:V$5,[1]e!$F:$F,$C11)} -> 0 | Y11: {=COUNTIFS([1]e!$I:$I,'c'!Y$6,[1]e!$E:$E,'c'!Y$5:Y$5,[1]e!$F:$F,$C11)} -> 0 | Z11: {=COUNTIFS([1]e!$I:$I,'c'!Z$6,[1]e!$E:$E,'c'!Y$5:Y$5,[1]e!$F:$F,$C11)} -> 0 | AA11: {=COUNTIFS([1]e!$I:$I,'c'!AA$6,[1]e!$E:$E,'c'!Y$5:Y$5,[1]e!$F:$F,$C11)} -> 0 | AB11: {=COUNTIFS([1]e!$I:$I,'c'!AB$6,[1]e!$E:$E,'c'!AB$5:AB$5,[1]e!$F:$F,$C11)} -> 0 | AC11: {=COUNTIFS([1]e!$I:$I,'c'!AC$6,[1]e!$E:$E,'c'!AB$5:AB$5,[1]e!$F:$F,$C11)} -> 0 | AD11: {=COUNTIFS([1]e!$I:$I,'c'!AD$6,[1]e!$E:$E,'c'!AB$5:AB$5,[1]e!$F:$F,$C11)} -> 0 | AE11: {=COUNTIFS([1]e!$I:$I,'c'!AE$6,[1]e!$E:$E,'c'!AE$5:AE$5,[1]e!$F:$F,$C11)} -> 3 | AF11: {=COUNTIFS([1]e!$I:$I,'c'!AF$6,[1]e!$E:$E,'c'!AE$5:AE$5,[1]e!$F:$F,$C11)} -> 0 | AG11: {=COUNTIFS([1]e!$I:$I,'c'!AG$6,[1]e!$E:$E,'c'!AE$5:AE$5,[1]e!$F:$F,$C11)} -> 0
A12: 5 | B12: 52.07.05 | C12: Brang Rea | D12: {=COUNTIFS([1]e!$I:$I,'c'!D$6,[1]e!$E:$E,'c'!D$5:D$5,[1]e!$F:$F,$C12)} -> 0 | E12: {=COUNTIFS([1]e!$I:$I,'c'!E$6,[1]e!$E:$E,'c'!E$5:E$5,[1]e!$F:$F,$C12)} -> 0 | F12: {=COUNTIFS([1]e!$I:$I,'c'!F$6,[1]e!$E:$E,'c'!F$5:F$5,[1]e!$F:$F,$C12)} -> 0 | G12: {=COUNTIFS([1]e!$I:$I,'c'!G$6,[1]e!$E:$E,'c'!G$5:G$5,[1]e!$F:$F,$C12)} -> 0 | H12: {=COUNTIFS([1]e!$I:$I,'c'!H$6,[1]e!$E:$E,'c'!G$5:G$5,[1]e!$F:$F,$C12)} -> 0 | I12: {=COUNTIFS([1]e!$I:$I,'c'!I$6,[1]e!$E:$E,'c'!G$5:G$5,[1]e!$F:$F,$C12)} -> 0 | J12: {=COUNTIFS([1]e!$I:$I,'c'!J$6,[1]e!$E:$E,'c'!J$5:J$5,[1]e!$F:$F,$C12)} -> 0 | K12: {=COUNTIFS([1]e!$I:$I,'c'!K$6,[1]e!$E:$E,'c'!J$5:J$5,[1]e!$F:$F,$C12)} -> 0 | L12: {=COUNTIFS([1]e!$I:$I,'c'!L$6,[1]e!$E:$E,'c'!J$5:J$5,[1]e!$F:$F,$C12)} -> 0 | M12: {=COUNTIFS([1]e!$I:$I,'c'!M$6,[1]e!$E:$E,'c'!M$5:M$5,[1]e!$F:$F,$C12)} -> 0 | N12: {=COUNTIFS([1]e!$I:$I,'c'!N$6,[1]e!$E:$E,'c'!M$5:M$5,[1]e!$F:$F,$C12)} -> 0 | O12: {=COUNTIFS([1]e!$I:$I,'c'!O$6,[1]e!$E:$E,'c'!M$5:M$5,[1]e!$F:$F,$C12)} -> 5 | P12: {=COUNTIFS([1]e!$I:$I,'c'!P$6,[1]e!$E:$E,'c'!P$5:P$5,[1]e!$F:$F,$C12)} -> 0 | Q12: {=COUNTIFS([1]e!$I:$I,'c'!Q$6,[1]e!$E:$E,'c'!P$5:P$5,[1]e!$F:$F,$C12)} -> 0 | R12: {=COUNTIFS([1]e!$I:$I,'c'!R$6,[1]e!$E:$E,'c'!P$5:P$5,[1]e!$F:$F,$C12)} -> 4 | S12: {=COUNTIFS([1]e!$I:$I,'c'!S$6,[1]e!$E:$E,'c'!S$5:S$5,[1]e!$F:$F,$C12)} -> 0 | T12: {=COUNTIFS([1]e!$I:$I,'c'!T$6,[1]e!$E:$E,'c'!S$5:S$5,[1]e!$F:$F,$C12)} -> 0 | U12: {=COUNTIFS([1]e!$I:$I,'c'!U$6,[1]e!$E:$E,'c'!S$5:S$5,[1]e!$F:$F,$C12)} -> 0 | V12: {=COUNTIFS([1]e!$I:$I,'c'!V$6,[1]e!$E:$E,'c'!V$5:V$5,[1]e!$F:$F,$C12)} -> 0 | W12: {=COUNTIFS([1]e!$I:$I,'c'!W$6,[1]e!$E:$E,'c'!V$5:V$5,[1]e!$F:$F,$C12)} -> 0 | X12: {=COUNTIFS([1]e!$I:$I,'c'!X$6,[1]e!$E:$E,'c'!V$5:V$5,[1]e!$F:$F,$C12)} -> 0 | Y12: {=COUNTIFS([1]e!$I:$I,'c'!Y$6,[1]e!$E:$E,'c'!Y$5:Y$5,[1]e!$F:$F,$C12)} -> 0 | Z12: {=COUNTIFS([1]e!$I:$I,'c'!Z$6,[1]e!$E:$E,'c'!Y$5:Y$5,[1]e!$F:$F,$C12)} -> 0 | AA12: {=COUNTIFS([1]e!$I:$I,'c'!AA$6,[1]e!$E:$E,'c'!Y$5:Y$5,[1]e!$F:$F,$C12)} -> 0 | AB12: {=COUNTIFS([1]e!$I:$I,'c'!AB$6,[1]e!$E:$E,'c'!AB$5:AB$5,[1]e!$F:$F,$C12)} -> 0 | AC12: {=COUNTIFS([1]e!$I:$I,'c'!AC$6,[1]e!$E:$E,'c'!AB$5:AB$5,[1]e!$F:$F,$C12)} -> 0 | AD12: {=COUNTIFS([1]e!$I:$I,'c'!AD$6,[1]e!$E:$E,'c'!AB$5:AB$5,[1]e!$F:$F,$C12)} -> 0 | AE12: {=COUNTIFS([1]e!$I:$I,'c'!AE$6,[1]e!$E:$E,'c'!AE$5:AE$5,[1]e!$F:$F,$C12)} -> 0 | AF12: {=COUNTIFS([1]e!$I:$I,'c'!AF$6,[1]e!$E:$E,'c'!AE$5:AE$5,[1]e!$F:$F,$C12)} -> 0 | AG12: {=COUNTIFS([1]e!$I:$I,'c'!AG$6,[1]e!$E:$E,'c'!AE$5:AE$5,[1]e!$F:$F,$C12)} -> 0
A13: 6 | B13: 52.07.06 | C13: Poto Tano | D13: {=COUNTIFS([1]e!$I:$I,'c'!D$6,[1]e!$E:$E,'c'!D$5:D$5,[1]e!$F:$F,$C13)} -> 0 | E13: {=COUNTIFS([1]e!$I:$I,'c'!E$6,[1]e!$E:$E,'c'!E$5:E$5,[1]e!$F:$F,$C13)} -> 0 | F13: {=COUNTIFS([1]e!$I:$I,'c'!F$6,[1]e!$E:$E,'c'!F$5:F$5,[1]e!$F:$F,$C13)} -> 0 | G13: {=COUNTIFS([1]e!$I:$I,'c'!G$6,[1]e!$E:$E,'c'!G$5:G$5,[1]e!$F:$F,$C13)} -> 0 | H13: {=COUNTIFS([1]e!$I:$I,'c'!H$6,[1]e!$E:$E,'c'!G$5:G$5,[1]e!$F:$F,$C13)} -> 0 | I13: {=COUNTIFS([1]e!$I:$I,'c'!I$6,[1]e!$E:$E,'c'!G$5:G$5,[1]e!$F:$F,$C13)} -> 0 | J13: {=COUNTIFS([1]e!$I:$I,'c'!J$6,[1]e!$E:$E,'c'!J$5:J$5,[1]e!$F:$F,$C13)} -> 0 | K13: {=COUNTIFS([1]e!$I:$I,'c'!K$6,[1]e!$E:$E,'c'!J$5:J$5,[1]e!$F:$F,$C13)} -> 0 | L13: {=COUNTIFS([1]e!$I:$I,'c'!L$6,[1]e!$E:$E,'c'!J$5:J$5,[1]e!$F:$F,$C13)} -> 0 | M13: {=COUNTIFS([1]e!$I:$I,'c'!M$6,[1]e!$E:$E,'c'!M$5:M$5,[1]e!$F:$F,$C13)} -> 0 | N13: {=COUNTIFS([1]e!$I:$I,'c'!N$6,[1]e!$E:$E,'c'!M$5:M$5,[1]e!$F:$F,$C13)} -> 0 | O13: {=COUNTIFS([1]e!$I:$I,'c'!O$6,[1]e!$E:$E,'c'!M$5:M$5,[1]e!$F:$F,$C13)} -> 0 | P13: {=COUNTIFS([1]e!$I:$I,'c'!P$6,[1]e!$E:$E,'c'!P$5:P$5,[1]e!$F:$F,$C13)} -> 0 | Q13: {=COUNTIFS([1]e!$I:$I,'c'!Q$6,[1]e!$E:$E,'c'!P$5:P$5,[1]e!$F:$F,$C13)} -> 0 | R13: {=COUNTIFS([1]e!$I:$I,'c'!R$6,[1]e!$E:$E,'c'!P$5:P$5,[1]e!$F:$F,$C13)} -> 3 | S13: {=COUNTIFS([1]e!$I:$I,'c'!S$6,[1]e!$E:$E,'c'!S$5:S$5,[1]e!$F:$F,$C13)} -> 0 | T13: {=COUNTIFS([1]e!$I:$I,'c'!T$6,[1]e!$E:$E,'c'!S$5:S$5,[1]e!$F:$F,$C13)} -> 0 | U13: {=COUNTIFS([1]e!$I:$I,'c'!U$6,[1]e!$E:$E,'c'!S$5:S$5,[1]e!$F:$F,$C13)} -> 0 | V13: {=COUNTIFS([1]e!$I:$I,'c'!V$6,[1]e!$E:$E,'c'!V$5:V$5,[1]e!$F:$F,$C13)} -> 0 | W13: {=COUNTIFS([1]e!$I:$I,'c'!W$6,[1]e!$E:$E,'c'!V$5:V$5,[1]e!$F:$F,$C13)} -> 0 | X13: {=COUNTIFS([1]e!$I:$I,'c'!X$6,[1]e!$E:$E,'c'!V$5:V$5,[1]e!$F:$F,$C13)} -> 0 | Y13: {=COUNTIFS([1]e!$I:$I,'c'!Y$6,[1]e!$E:$E,'c'!Y$5:Y$5,[1]e!$F:$F,$C13)} -> 0 | Z13: {=COUNTIFS([1]e!$I:$I,'c'!Z$6,[1]e!$E:$E,'c'!Y$5:Y$5,[1]e!$F:$F,$C13)} -> 0 | AA13: {=COUNTIFS([1]e!$I:$I,'c'!AA$6,[1]e!$E:$E,'c'!Y$5:Y$5,[1]e!$F:$F,$C13)} -> 0 | AB13: {=COUNTIFS([1]e!$I:$I,'c'!AB$6,[1]e!$E:$E,'c'!AB$5:AB$5,[1]e!$F:$F,$C13)} -> 0 | AC13: {=COUNTIFS([1]e!$I:$I,'c'!AC$6,[1]e!$E:$E,'c'!AB$5:AB$5,[1]e!$F:$F,$C13)} -> 0 | AD13: {=COUNTIFS([1]e!$I:$I,'c'!AD$6,[1]e!$E:$E,'c'!AB$5:AB$5,[1]e!$F:$F,$C13)} -> 0 | AE13: {=COUNTIFS([1]e!$I:$I,'c'!AE$6,[1]e!$E:$E,'c'!AE$5:AE$5,[1]e!$F:$F,$C13)} -> 1 | AF13: {=COUNTIFS([1]e!$I:$I,'c'!AF$6,[1]e!$E:$E,'c'!AE$5:AE$5,[1]e!$F:$F,$C13)} -> 0 | AG13: {=COUNTIFS([1]e!$I:$I,'c'!AG$6,[1]e!$E:$E,'c'!AE$5:AE$5,[1]e!$F:$F,$C13)} -> 0
A14: 7 | B14: 52.07.07 | C14: Brang Ene | D14: {=COUNTIFS([1]e!$I:$I,'c'!D$6,[1]e!$E:$E,'c'!D$5:D$5,[1]e!$F:$F,$C14)} -> 0 | E14: {=COUNTIFS([1]e!$I:$I,'c'!E$6,[1]e!$E:$E,'c'!E$5:E$5,[1]e!$F:$F,$C14)} -> 0 | F14: {=COUNTIFS([1]e!$I:$I,'c'!F$6,[1]e!$E:$E,'c'!F$5:F$5,[1]e!$F:$F,$C14)} -> 0 | G14: {=COUNTIFS([1]e!$I:$I,'c'!G$6,[1]e!$E:$E,'c'!G$5:G$5,[1]e!$F:$F,$C14)} -> 0 | H14: {=COUNTIFS([1]e!$I:$I,'c'!H$6,[1]e!$E:$E,'c'!G$5:G$5,[1]e!$F:$F,$C14)} -> 0 | I14: {=COUNTIFS([1]e!$I:$I,'c'!I$6,[1]e!$E:$E,'c'!G$5:G$5,[1]e!$F:$F,$C14)} -> 0 | J14: {=COUNTIFS([1]e!$I:$I,'c'!J$6,[1]e!$E:$E,'c'!J$5:J$5,[1]e!$F:$F,$C14)} -> 0 | K14: {=COUNTIFS([1]e!$I:$I,'c'!K$6,[1]e!$E:$E,'c'!J$5:J$5,[1]e!$F:$F,$C14)} -> 0 | L14: {=COUNTIFS([1]e!$I:$I,'c'!L$6,[1]e!$E:$E,'c'!J$5:J$5,[1]e!$F:$F,$C14)} -> 0 | M14: {=COUNTIFS([1]e!$I:$I,'c'!M$6,[1]e!$E:$E,'c'!M$5:M$5,[1]e!$F:$F,$C14)} -> 0 | N14: {=COUNTIFS([1]e!$I:$I,'c'!N$6,[1]e!$E:$E,'c'!M$5:M$5,[1]e!$F:$F,$C14)} -> 0 | O14: {=COUNTIFS([1]e!$I:$I,'c'!O$6,[1]e!$E:$E,'c'!M$5:M$5,[1]e!$F:$F,$C14)} -> 0 | P14: {=COUNTIFS([1]e!$I:$I,'c'!P$6,[1]e!$E:$E,'c'!P$5:P$5,[1]e!$F:$F,$C14)} -> 0 | Q14: {=COUNTIFS([1]e!$I:$I,'c'!Q$6,[1]e!$E:$E,'c'!P$5:P$5,[1]e!$F:$F,$C14)} -> 0 | R14: {=COUNTIFS([1]e!$I:$I,'c'!R$6,[1]e!$E:$E,'c'!P$5:P$5,[1]e!$F:$F,$C14)} -> 0 | S14: {=COUNTIFS([1]e!$I:$I,'c'!S$6,[1]e!$E:$E,'c'!S$5:S$5,[1]e!$F:$F,$C14)} -> 0 | T14: {=COUNTIFS([1]e!$I:$I,'c'!T$6,[1]e!$E:$E,'c'!S$5:S$5,[1]e!$F:$F,$C14)} -> 0 | U14: {=COUNTIFS([1]e!$I:$I,'c'!U$6,[1]e!$E:$E,'c'!S$5:S$5,[1]e!$F:$F,$C14)} -> 0 | V14: {=COUNTIFS([1]e!$I:$I,'c'!V$6,[1]e!$E:$E,'c'!V$5:V$5,[1]e!$F:$F,$C14)} -> 0 | W14: {=COUNTIFS([1]e!$I:$I,'c'!W$6,[1]e!$E:$E,'c'!V$5:V$5,[1]e!$F:$F,$C14)} -> 0 | X14: {=COUNTIFS([1]e!$I:$I,'c'!X$6,[1]e!$E:$E,'c'!V$5:V$5,[1]e!$F:$F,$C14)} -> 0 | Y14: {=COUNTIFS([1]e!$I:$I,'c'!Y$6,[1]e!$E:$E,'c'!Y$5:Y$5,[1]e!$F:$F,$C14)} -> 0 | Z14: {=COUNTIFS([1]e!$I:$I,'c'!Z$6,[1]e!$E:$E,'c'!Y$5:Y$5,[1]e!$F:$F,$C14)} -> 0 | AA14: {=COUNTIFS([1]e!$I:$I,'c'!AA$6,[1]e!$E:$E,'c'!Y$5:Y$5,[1]e!$F:$F,$C14)} -> 0 | AB14: {=COUNTIFS([1]e!$I:$I,'c'!AB$6,[1]e!$E:$E,'c'!AB$5:AB$5,[1]e!$F:$F,$C14)} -> 0 | AC14: {=COUNTIFS([1]e!$I:$I,'c'!AC$6,[1]e!$E:$E,'c'!AB$5:AB$5,[1]e!$F:$F,$C14)} -> 0 | AD14: {=COUNTIFS([1]e!$I:$I,'c'!AD$6,[1]e!$E:$E,'c'!AB$5:AB$5,[1]e!$F:$F,$C14)} -> 0 | AE14: {=COUNTIFS([1]e!$I:$I,'c'!AE$6,[1]e!$E:$E,'c'!AE$5:AE$5,[1]e!$F:$F,$C14)} -> 0 | AF14: {=COUNTIFS([1]e!$I:$I,'c'!AF$6,[1]e!$E:$E,'c'!AE$5:AE$5,[1]e!$F:$F,$C14)} -> 0 | AG14: {=COUNTIFS([1]e!$I:$I,'c'!AG$6,[1]e!$E:$E,'c'!AE$5:AE$5,[1]e!$F:$F,$C14)} -> 0
A15: 8 | B15: 52.07.08 | C15: Maluk | D15: {=COUNTIFS([1]e!$I:$I,'c'!D$6,[1]e!$E:$E,'c'!D$5:D$5,[1]e!$F:$F,$C15)} -> 0 | E15: {=COUNTIFS([1]e!$I:$I,'c'!E$6,[1]e!$E:$E,'c'!E$5:E$5,[1]e!$F:$F,$C15)} -> 0 | F15: {=COUNTIFS([1]e!$I:$I,'c'!F$6,[1]e!$E:$E,'c'!F$5:F$5,[1]e!$F:$F,$C15)} -> 0 | G15: {=COUNTIFS([1]e!$I:$I,'c'!G$6,[1]e!$E:$E,'c'!G$5:G$5,[1]e!$F:$F,$C15)} -> 0 | H15: {=COUNTIFS([1]e!$I:$I,'c'!H$6,[1]e!$E:$E,'c'!G$5:G$5,[1]e!$F:$F,$C15)} -> 0 | I15: {=COUNTIFS([1]e!$I:$I,'c'!I$6,[1]e!$E:$E,'c'!G$5:G$5,[1]e!$F:$F,$C15)} -> 0 | J15: {=COUNTIFS([1]e!$I:$I,'c'!J$6,[1]e!$E:$E,'c'!J$5:J$5,[1]e!$F:$F,$C15)} -> 0 | K15: {=COUNTIFS([1]e!$I:$I,'c'!K$6,[1]e!$E:$E,'c'!J$5:J$5,[1]e!$F:$F,$C15)} -> 0 | L15: {=COUNTIFS([1]e!$I:$I,'c'!L$6,[1]e!$E:$E,'c'!J$5:J$5,[1]e!$F:$F,$C15)} -> 0 | M15: {=COUNTIFS([1]e!$I:$I,'c'!M$6,[1]e!$E:$E,'c'!M$5:M$5,[1]e!$F:$F,$C15)} -> 0 | N15: {=COUNTIFS([1]e!$I:$I,'c'!N$6,[1]e!$E:$E,'c'!M$5:M$5,[1]e!$F:$F,$C15)} -> 0 | O15: {=COUNTIFS([1]e!$I:$I,'c'!O$6,[1]e!$E:$E,'c'!M$5:M$5,[1]e!$F:$F,$C15)} -> 0 | P15: {=COUNTIFS([1]e!$I:$I,'c'!P$6,[1]e!$E:$E,'c'!P$5:P$5,[1]e!$F:$F,$C15)} -> 0 | Q15: {=COUNTIFS([1]e!$I:$I,'c'!Q$6,[1]e!$E:$E,'c'!P$5:P$5,[1]e!$F:$F,$C15)} -> 0 | R15: {=COUNTIFS([1]e!$I:$I,'c'!R$6,[1]e!$E:$E,'c'!P$5:P$5,[1]e!$F:$F,$C15)} -> 0 | S15: {=COUNTIFS([1]e!$I:$I,'c'!S$6,[1]e!$E:$E,'c'!S$5:S$5,[1]e!$F:$F,$C15)} -> 0 | T15: {=COUNTIFS([1]e!$I:$I,'c'!T$6,[1]e!$E:$E,'c'!S$5:S$5,[1]e!$F:$F,$C15)} -> 0 | U15: {=COUNTIFS([1]e!$I:$I,'c'!U$6,[1]e!$E:$E,'c'!S$5:S$5,[1]e!$F:$F,$C15)} -> 0 | V15: {=COUNTIFS([1]e!$I:$I,'c'!V$6,[1]e!$E:$E,'c'!V$5:V$5,[1]e!$F:$F,$C15)} -> 0 | W15: {=COUNTIFS([1]e!$I:$I,'c'!W$6,[1]e!$E:$E,'c'!V$5:V$5,[1]e!$F:$F,$C15)} -> 0 | X15: {=COUNTIFS([1]e!$I:$I,'c'!X$6,[1]e!$E:$E,'c'!V$5:V$5,[1]e!$F:$F,$C15)} -> 0 | Y15: {=COUNTIFS([1]e!$I:$I,'c'!Y$6,[1]e!$E:$E,'c'!Y$5:Y$5,[1]e!$F:$F,$C15)} -> 0 | Z15: {=COUNTIFS([1]e!$I:$I,'c'!Z$6,[1]e!$E:$E,'c'!Y$5:Y$5,[1]e!$F:$F,$C15)} -> 0 | AA15: {=COUNTIFS([1]e!$I:$I,'c'!AA$6,[1]e!$E:$E,'c'!Y$5:Y$5,[1]e!$F:$F,$C15)} -> 0 | AB15: {=COUNTIFS([1]e!$I:$I,'c'!AB$6,[1]e!$E:$E,'c'!AB$5:AB$5,[1]e!$F:$F,$C15)} -> 0 | AC15: {=COUNTIFS([1]e!$I:$I,'c'!AC$6,[1]e!$E:$E,'c'!AB$5:AB$5,[1]e!$F:$F,$C15)} -> 0 | AD15: {=COUNTIFS([1]e!$I:$I,'c'!AD$6,[1]e!$E:$E,'c'!AB$5:AB$5,[1]e!$F:$F,$C15)} -> 0 | AE15: {=COUNTIFS([1]e!$I:$I,'c'!AE$6,[1]e!$E:$E,'c'!AE$5:AE$5,[1]e!$F:$F,$C15)} -> 0 | AF15: {=COUNTIFS([1]e!$I:$I,'c'!AF$6,[1]e!$E:$E,'c'!AE$5:AE$5,[1]e!$F:$F,$C15)} -> 0 | AG15: {=COUNTIFS([1]e!$I:$I,'c'!AG$6,[1]e!$E:$E,'c'!AE$5:AE$5,[1]e!$F:$F,$C15)} -> 0
A16: Jumlah | D16: =SUM(D8:D15) -> 0 | E16: =SUM(E8:E15) -> 0 | F16: =SUM(F8:F15) -> 0 | G16: =SUM(G8:G15) -> 0 | H16: =SUM(H8:H15) -> 0 | I16: =SUM(I8:I15) -> 0 | J16: =SUM(J8:J15) -> 0 | K16: =SUM(K8:K15) -> 0 | ... AG16: =SUM(AG8:AG15) -> 0
A17: Sumber data: Badan Penanggulangan Bencana Daerah
A19: Konsep :
A20: Definisi :
A21: Klasifikasi:
A22: Ukuran:
A23: Satuan:
A24: Sumber:
